BEGIN:VCALENDAR
VERSION:2.0
PRODID:-//Marcela Dance - ECPv6.15.20//NONSGML v1.0//EN
CALSCALE:GREGORIAN
METHOD:PUBLISH
X-ORIGINAL-URL:https://marceladance.com
X-WR-CALDESC:Events for Marcela Dance
REFRESH-INTERVAL;VALUE=DURATION:PT1H
X-Robots-Tag:noindex
X-PUBLISHED-TTL:PT1H
BEGIN:VTIMEZONE
TZID:UTC
BEGIN:STANDARD
TZOFFSETFROM:+0000
TZOFFSETTO:+0000
TZNAME:UTC
DTSTART:20250101T000000
END:STANDARD
END:VTIMEZONE
BEGIN:VEVENT
DTSTART;TZID=UTC:20260306T220000
DTEND;TZID=UTC:20260306T235900
DTSTAMP:20260420T182041
CREATED:20260301T205125Z
LAST-MODIFIED:20260312T203845Z
UID:3957-1772834400-1772841540@marceladance.com
SUMMARY:Come Dance Modern Salsa with TribeCO
DESCRIPTION:Come dance modern Salsa with TribeCO. Salsa\, Timba\, Bachata y Cumbia. Band starts at 10pm. \nVen a bailar salsa moderna con TribeCO. Salsa\, Timba\, Bachata y Cumba. \nLa orquesta empieza a las 10pm.
URL:https://marceladance.com/event/come-dance-modern-salsa-with-tribeco/
LOCATION:Blue Ice\, 22 Broadway\, Denver\, 80203\, United States
CATEGORIES:Events
ATTACH;FMTTYPE=image/jpeg:https://marceladance.com/wp-content/uploads/grupo-tribeco-denver.jpg
ORGANIZER;CN="Marcela":MAILTO:mlay3@hotmail.com
END:VEVENT
BEGIN:VEVENT
DTSTART;TZID=UTC:20260307T193000
DTEND;TZID=UTC:20260307T233000
DTSTAMP:20260420T182041
CREATED:20260118T195203Z
LAST-MODIFIED:20260312T203845Z
UID:3909-1772911800-1772926200@marceladance.com
SUMMARY:Salsa Clásica at The Social Lounge
DESCRIPTION:Join us for a brand-new Social Salsa Night filled with classic salsa tunes\, great energy\, and community connection. \nThe evening begins at 7:30 pm with a half hour group salsa lesson by Marcela Dance\, perfect for warming up and welcoming dancers of all levels. \n8:00 – 11:00 pm stay and enjoy a social dance featuring salsa CLÁSICA by Dj Salserin!! \nHe will keep you on the dance floor all night long. \nCome dance\, learn\, and share the joy of salsa 💃🕺! \n\n$10/ class and social
URL:https://marceladance.com/event/salsa-clasica-at-the-social-lounge/
LOCATION:The Social Lounge\, 2025 Ionosphere\, Longmont\, CO\, 80504\, United States
CATEGORIES:Events
ATTACH;FMTTYPE=image/jpeg:https://marceladance.com/wp-content/uploads/social-lounge-longmont-salsa-dancing.jpg
ORGANIZER;CN="Marcela":MAILTO:mlay3@hotmail.com
END:VEVENT
BEGIN:VEVENT
DTSTART;TZID=UTC:20260313T193000
DTEND;TZID=UTC:20260313T230000
DTSTAMP:20260420T182041
CREATED:20260301T204635Z
LAST-MODIFIED:20260312T203845Z
UID:3952-1773430200-1773442800@marceladance.com
SUMMARY:Salsaton Anniversary Edition At The Junkyard
DESCRIPTION:3-Year ANNIVERSARY Salsaton Social 🎉 \nJoin us as we celebrate three incredible years of dancing and community. THANK YOU all for your continued support\, love 💕 and energy on the dance floor. \nEnjoy a special night with performances\, complimentary snacks\, champagne toast\, and a fun Rueda lesson with amazing guest instructor from Atlanta… Julian Mejia. \n🎟️ We will be giving away a complimentary ticket for “A Lo Cubano Boulder Fest”\nCome dance\, celebrate\, and be part of the GOLD party! 🎊 \n\n7:30-8:00pm Rueda lesson by Julian Mejia from SalsaAtanta💃🕺\n8:00-11:00pm Social Dance\n9:00pm Amazing solo Salsa performance by Mica from Ft Collins!!\n\nDj Tito will be playing the best tunes this month. Yay! Let’s 🕺 dance 💃 \n\nBar and snacks 🍷\n💰 $12/class and social\nkids friendly\n\nNo te lo pierdas! 💃🕺 wear your GOLD outfits!! \nFor more info ℹ️ www.MarcelaDance.com\nPasito.fun
URL:https://marceladance.com/event/salsaton-anniversary-edition-at-the-junkyard/
LOCATION:Junkyard Social Club\, 2525 Frontier Avenue\, Unit A\, Boulder\, CO\, United States
CATEGORIES:Events
ATTACH;FMTTYPE=image/jpeg:https://marceladance.com/wp-content/uploads/salsaton-anniversary-at-junkyard.jpg
ORGANIZER;CN="Marcela":MAILTO:mlay3@hotmail.com
END:VEVENT
BEGIN:VEVENT
DTSTART;TZID=UTC:20260314T130000
DTEND;TZID=UTC:20260314T160000
DTSTAMP:20260420T182041
CREATED:20260128T034818Z
LAST-MODIFIED:20260312T203844Z
UID:3928-1773493200-1773504000@marceladance.com
SUMMARY:March Weekender with Julian Mejia
DESCRIPTION:Julian Mejia is the founder of SALSAtlanta\, which he established in 1999 to share his passion for Cuban music and dance. For over 25 years\, he has been teaching Rueda and Casino dance throughout the southwest. \nLet’s welcome Julian to our Boulder dance community once again. \n📅 Saturday\, March 14th \n\n⏰ 1:00pm-2:30pm Casino partners (Intermediate)\n⏰ 2:30pm-4:00pm Rueda de Casino (Intermediate)\n\nWhere? Avalon Ballroom\n6185 Arapahoe Rd. Boulder \n3 hours of Cuban dance! 🇨🇺 \n\n💰$60 early bird💰\n$70 at the door\n$35 each workshop\n\nGet your ticket at;\nwww.Alocubanoboulderfest.org \nPS: Julian will be teaching at Salsaton’s 3rd year anniversary on Friday\, March 13th from 7:30-8:00pm.\nNo te lo pierdas!💃🕺
URL:https://marceladance.com/event/march-weekender-with-julian-mejia/
LOCATION:Avalon Ballroom\, 6185 Arapahoe Rd\, Boulder\, CO\, Boulder\, CO\, 80303\, United States
CATEGORIES:Workshops
ATTACH;FMTTYPE=image/jpeg:https://marceladance.com/wp-content/uploads/mejia.jpg
ORGANIZER;CN="Marcela":MAILTO:mlay3@hotmail.com
END:VEVENT
BEGIN:VEVENT
DTSTART;TZID=UTC:20260322T170000
DTEND;TZID=UTC:20260322T193000
DTSTAMP:20260420T182041
CREATED:20260302T233310Z
LAST-MODIFIED:20260312T203844Z
UID:3965-1774198800-1774207800@marceladance.com
SUMMARY:Salsa Sundays at The Junkyard Social Club
DESCRIPTION:Don’t forget to recharge your Salsa dance batteries  before your week starts again.\nCome out and Salsa with us on Sunday\, March 22nd and enjoy the tunes played  by our amazing Dj Diva and Rueda de Casino class by Rebecca.\nSee you on the dance floor!\n\n$10/class and social\nkids (free)\n\nMore info at\nwww.MarcelaDance.com\nhttps://pasito.fun/e/s1rmw
URL:https://marceladance.com/event/salsa-sundays-at-the-junkyard-social-club/
LOCATION:Junkyard Social Club\, 2525 Frontier Avenue\, Unit A\, Boulder\, CO\, United States
CATEGORIES:Events
ATTACH;FMTTYPE=image/jpeg:https://marceladance.com/wp-content/uploads/dj-diva-junkyard-salsa-dancing-1.jpg
ORGANIZER;CN="Marcela":MAILTO:mlay3@hotmail.com
END:VEVENT
BEGIN:VEVENT
DTSTART;TZID=UTC:20260327T193000
DTEND;TZID=UTC:20260327T230000
DTSTAMP:20260420T182041
CREATED:20260311T194817Z
LAST-MODIFIED:20260324T153806Z
UID:3969-1774639800-1774652400@marceladance.com
SUMMARY:Salsaton Fort Collins
DESCRIPTION:Fort Collins 🎵Salsaton & Marcela Dance are expanding and bringing the flavor of SALSA to Northern Colorado! \nWe’re excited to invite you to our new salsa event where music\, movement\, and community come together at “Live Beyond Limit” \n\n7:30-8:00pm the night starts with a fun\, beginner BACHATA lesson by Marcela and Donal🕺💃\n8:00-11:00pm Best music by our amazing DJ Diva 👩‍🎤 (Yolanda)\n\nThis time we will have a food truck and soft drinks for sale available! Cheers.. 🍹 \n$10/class and social \nAll ages \nNo te lo pierdas! (do not miss it;))
URL:https://marceladance.com/event/salsaton-fort-collins/
LOCATION:Live Beyond Limit\, 353 W Drake Rd Suite 130/140\, Fort Collins\, CO\, 80526\, United States
CATEGORIES:Events
ATTACH;FMTTYPE=image/jpeg:https://marceladance.com/wp-content/uploads/salsaton-fort-collins.jpg
ORGANIZER;CN="Marcela":MAILTO:mlay3@hotmail.com
END:VEVENT
END:VCALENDAR