BEGIN:VCALENDAR
VERSION:2.0
PRODID:-//Marcela Dance - ECPv6.15.20//NONSGML v1.0//EN
CALSCALE:GREGORIAN
METHOD:PUBLISH
X-WR-CALNAME:Marcela Dance
X-ORIGINAL-URL:https://marceladance.com
X-WR-CALDESC:Events for Marcela Dance
REFRESH-INTERVAL;VALUE=DURATION:PT1H
X-Robots-Tag:noindex
X-PUBLISHED-TTL:PT1H
BEGIN:VTIMEZONE
TZID:UTC
BEGIN:STANDARD
TZOFFSETFROM:+0000
TZOFFSETTO:+0000
TZNAME:UTC
DTSTART:20200101T000000
END:STANDARD
END:VTIMEZONE
BEGIN:VEVENT
DTSTART;TZID=UTC:20210612T120000
DTEND;TZID=UTC:20210612T130000
DTSTAMP:20260420T001130
CREATED:20210529T181226Z
LAST-MODIFIED:20210810T221522Z
UID:1505-1623499200-1623502800@marceladance.com
SUMMARY:Cuban Footwork with Toqui
DESCRIPTION:Toqui\, directly from Havana de Cuba\, will be teaching his Second Cuban footwork workshop. \nJoin us and enjoy Toqui’s lively\, playful and amazing moves.\nThis time we will be in the Avalon Ballroom\, the biggest dance floor and stage:) … Just for you. \nDon’t wait! – Get your spot NOW! His first workshop in Boulder SOLD OUT really fast!! Therefore\, don’t wait! \nCan’t wait to see you.\nLove\, Marcela
URL:https://marceladance.com/event/cuban-footwork-with-toqui/
LOCATION:Avalon Ballroom\, 6185 Arapahoe Rd\, Boulder\, CO\, Boulder\, CO\, 80303\, United States
CATEGORIES:Workshops
ATTACH;FMTTYPE=image/jpeg:https://marceladance.com/wp-content/uploads/toqui.jpg
ORGANIZER;CN="Marcela":MAILTO:mlay3@hotmail.com
END:VEVENT
BEGIN:VEVENT
DTSTART;TZID=UTC:20210626T080000
DTEND;TZID=UTC:20210626T170000
DTSTAMP:20260420T001130
CREATED:20210626T213020Z
LAST-MODIFIED:20210810T221446Z
UID:1584-1624694400-1624726800@marceladance.com
SUMMARY:Toqui Cuban Footwork Workshop
DESCRIPTION:Toqui is back teaching this amazingly fun 2-hours Cuban footwork workshop…Just for YOU!!\nThis is a great way to improve your basic steps and add some groove to your body movements!\nNo matter what your level is…JOIN US on Saturday July 10th starting at 12:00pm\n\n12:00pm-1:00pm Basic/Beginners\n1:00pm-2:00pm Intermediate/advanced\n$15/per class\n$25/Both\nBook your spot now!\nVenmo@Marcela-Lay-1\n\nThanks for the great energy and the support always!!\nMarcela and Toqui
URL:https://marceladance.com/event/toqui-cuban-footwork-workshop/
LOCATION:CO
CATEGORIES:Workshops
END:VEVENT
END:VCALENDAR