BEGIN:VCALENDAR
VERSION:2.0
PRODID:-//Marcela Dance - ECPv6.15.20//NONSGML v1.0//EN
CALSCALE:GREGORIAN
METHOD:PUBLISH
X-ORIGINAL-URL:https://marceladance.com
X-WR-CALDESC:Events for Marcela Dance
REFRESH-INTERVAL;VALUE=DURATION:PT1H
X-Robots-Tag:noindex
X-PUBLISHED-TTL:PT1H
BEGIN:VTIMEZONE
TZID:UTC
BEGIN:STANDARD
TZOFFSETFROM:+0000
TZOFFSETTO:+0000
TZNAME:UTC
DTSTART:20250101T000000
END:STANDARD
END:VTIMEZONE
BEGIN:VEVENT
DTSTART;TZID=UTC:20260424T193000
DTEND;TZID=UTC:20260424T230000
DTSTAMP:20260422T074511
CREATED:20260330T214448Z
LAST-MODIFIED:20260330T214448Z
UID:3986-1777059000-1777071600@marceladance.com
SUMMARY:Salsaton Fort Collins April 24\, 2026
DESCRIPTION:Fort Collins 🎵Salsaton & Marcela Dance are expanding and bringing the flavor of SALSA to Northern Colorado!.. let’s go Fort Collins! \nWe’re excited to bring to you our Salsa\, Timba and Bachata event where music\, movement\, and community come together at “Live Beyond Limit” \n\n7:30-8:00pm the night starts with a fun\, beginner RUEDA lesson by Donal and Marcela🕺💃\n8:00-11:00pm Best music by our amazing DJ Diva 👩‍🎤 (Yolanda)\n\nThanks everyone for all the support 💕 \n\n$10/class and social\nAll ages\n\nNo te lo pierdas! (do not miss it;))
URL:https://marceladance.com/event/salsaton-fort-collins-april-24-2026/
LOCATION:Live Beyond Limit\, 353 W Drake Rd Suite 130/140\, Fort Collins\, CO\, 80526\, United States
CATEGORIES:Events
ATTACH;FMTTYPE=image/jpeg:https://marceladance.com/wp-content/uploads/salsaton-fort-collins.jpg
ORGANIZER;CN="Marcela":MAILTO:mlay3@hotmail.com
END:VEVENT
END:VCALENDAR