BEGIN:VCALENDAR
VERSION:2.0
PRODID:-//Marcela Dance - ECPv6.15.20//NONSGML v1.0//EN
CALSCALE:GREGORIAN
METHOD:PUBLISH
X-WR-CALNAME:Marcela Dance
X-ORIGINAL-URL:https://marceladance.com
X-WR-CALDESC:Events for Marcela Dance
REFRESH-INTERVAL;VALUE=DURATION:PT1H
X-Robots-Tag:noindex
X-PUBLISHED-TTL:PT1H
BEGIN:VTIMEZONE
TZID:UTC
BEGIN:STANDARD
TZOFFSETFROM:+0000
TZOFFSETTO:+0000
TZNAME:UTC
DTSTART:20240101T000000
END:STANDARD
END:VTIMEZONE
BEGIN:VEVENT
DTSTART;TZID=UTC:20250921T170000
DTEND;TZID=UTC:20250921T193000
DTSTAMP:20260421T061759
CREATED:20250914T225904Z
LAST-MODIFIED:20260119T234917Z
UID:3816-1758474000-1758483000@marceladance.com
SUMMARY:Salsa Sundays at The Junkyard September 21\, 2025
DESCRIPTION:As always\, “Salsa Sundays” is the perfect way to spend a Sunday afternoon with friends\, dancing and unwind before you get ready for your week. \nEvery 3rd Sunday at the Junkyard Social Club (2525 Frontier Ave\, Boulder). This month\, September 21st\, 2025\nNo te lo pierdas!! \n\n5:00 – 5:30 pm Rueda lesson by Rebecca\n5:30 – 7:30 pm Social dance\n\n$10/Class and social\nKids do not pay (they can play in the amazing outdoor area)
URL:https://marceladance.com/event/salsa-sundays-at-the-junkyard-september-21-2025/
LOCATION:Junkyard Social Club\, 2525 Frontier Avenue\, Unit A\, Boulder\, CO\, United States
CATEGORIES:Events
ATTACH;FMTTYPE=image/jpeg:https://marceladance.com/wp-content/uploads/20250324-marceladance-salsa-dancing-sundays-boulder.jpg
ORGANIZER;CN="Marcela":MAILTO:mlay3@hotmail.com
END:VEVENT
END:VCALENDAR