BEGIN:VCALENDAR
VERSION:2.0
PRODID:-//Marcela Dance - ECPv6.15.20//NONSGML v1.0//EN
CALSCALE:GREGORIAN
METHOD:PUBLISH
X-ORIGINAL-URL:https://marceladance.com
X-WR-CALDESC:Events for Marcela Dance
REFRESH-INTERVAL;VALUE=DURATION:PT1H
X-Robots-Tag:noindex
X-PUBLISHED-TTL:PT1H
BEGIN:VTIMEZONE
TZID:America/Denver
BEGIN:DAYLIGHT
TZOFFSETFROM:-0700
TZOFFSETTO:-0600
TZNAME:MDT
DTSTART:20200308T090000
END:DAYLIGHT
BEGIN:STANDARD
TZOFFSETFROM:-0600
TZOFFSETTO:-0700
TZNAME:MST
DTSTART:20201101T080000
END:STANDARD
BEGIN:DAYLIGHT
TZOFFSETFROM:-0700
TZOFFSETTO:-0600
TZNAME:MDT
DTSTART:20210314T090000
END:DAYLIGHT
BEGIN:STANDARD
TZOFFSETFROM:-0600
TZOFFSETTO:-0700
TZNAME:MST
DTSTART:20211107T080000
END:STANDARD
BEGIN:DAYLIGHT
TZOFFSETFROM:-0700
TZOFFSETTO:-0600
TZNAME:MDT
DTSTART:20220313T090000
END:DAYLIGHT
BEGIN:STANDARD
TZOFFSETFROM:-0600
TZOFFSETTO:-0700
TZNAME:MST
DTSTART:20221106T080000
END:STANDARD
END:VTIMEZONE
BEGIN:VEVENT
DTSTART;TZID=America/Denver:20211106T110000
DTEND;TZID=America/Denver:20211106T123000
DTSTAMP:20260419T171130
CREATED:20211009T110048Z
LAST-MODIFIED:20230515T220236Z
UID:1773-1636196400-1636201800@marceladance.com
SUMMARY:Cristian Oviedo Salsa Bachata World Champion in Boulder
DESCRIPTION:Saturday November 6th 2021\n11:00 am – 12:30 pm\nSalsa Partner Work\nTechnique and Shines \n$20 / Person\n$35 / Couple \nBachata Partner Work\nTechnique and Shines \n$20 / Person\n$35 / Couple \nPrice:\nVenmo : @Marcela-Lay-1\n(Limited spots available) \nLocation:\nMeet Us At\nThe Avalon Ballroom\n \n1810 30th St\, Boulder
URL:https://marceladance.com/event/cristian-oviedo-salsa-bachata-world-champion-in-boulder/
LOCATION:Avalon Ballroom\, 6185 Arapahoe Rd\, Boulder\, CO\, Boulder\, CO\, 80303\, United States
CATEGORIES:Workshops
ATTACH;FMTTYPE=image/jpeg:https://marceladance.com/wp-content/uploads/salsa-dancing-champion-boulder-christian-oviedo.jpg
ORGANIZER;CN="Marcela":MAILTO:mlay3@hotmail.com
END:VEVENT
END:VCALENDAR