BEGIN:VCALENDAR
VERSION:2.0
PRODID:-//Marcela Dance - ECPv6.15.20//NONSGML v1.0//EN
CALSCALE:GREGORIAN
METHOD:PUBLISH
X-ORIGINAL-URL:https://marceladance.com
X-WR-CALDESC:Events for Marcela Dance
REFRESH-INTERVAL;VALUE=DURATION:PT1H
X-Robots-Tag:noindex
X-PUBLISHED-TTL:PT1H
BEGIN:VTIMEZONE
TZID:UTC
BEGIN:STANDARD
TZOFFSETFROM:+0000
TZOFFSETTO:+0000
TZNAME:UTC
DTSTART:20200101T000000
END:STANDARD
END:VTIMEZONE
BEGIN:VEVENT
DTSTART;TZID=UTC:20210908T080000
DTEND;TZID=UTC:20210908T170000
DTSTAMP:20260419T203208
CREATED:20210908T024208Z
LAST-MODIFIED:20210908T024208Z
UID:1734-1631088000-1631120400@marceladance.com
SUMMARY:Ladies Styling
DESCRIPTION:Ladies Styling
URL:https://marceladance.com/event/ladies-styling-2/
LOCATION:CO
CATEGORIES:Workshops
ATTACH;FMTTYPE=image/jpeg:https://marceladance.com/wp-content/uploads/damilola-salsa-class.jpg
END:VEVENT
END:VCALENDAR