BEGIN:VCALENDAR
VERSION:2.0
PRODID:-//Marcela Dance - ECPv6.15.20//NONSGML v1.0//EN
CALSCALE:GREGORIAN
METHOD:PUBLISH
X-WR-CALNAME:Marcela Dance
X-ORIGINAL-URL:https://marceladance.com
X-WR-CALDESC:Events for Marcela Dance
REFRESH-INTERVAL;VALUE=DURATION:PT1H
X-Robots-Tag:noindex
X-PUBLISHED-TTL:PT1H
BEGIN:VTIMEZONE
TZID:America/Denver
BEGIN:DAYLIGHT
TZOFFSETFROM:-0700
TZOFFSETTO:-0600
TZNAME:MDT
DTSTART:20200308T090000
END:DAYLIGHT
BEGIN:STANDARD
TZOFFSETFROM:-0600
TZOFFSETTO:-0700
TZNAME:MST
DTSTART:20201101T080000
END:STANDARD
BEGIN:DAYLIGHT
TZOFFSETFROM:-0700
TZOFFSETTO:-0600
TZNAME:MDT
DTSTART:20210314T090000
END:DAYLIGHT
BEGIN:STANDARD
TZOFFSETFROM:-0600
TZOFFSETTO:-0700
TZNAME:MST
DTSTART:20211107T080000
END:STANDARD
BEGIN:DAYLIGHT
TZOFFSETFROM:-0700
TZOFFSETTO:-0600
TZNAME:MDT
DTSTART:20220313T090000
END:DAYLIGHT
BEGIN:STANDARD
TZOFFSETFROM:-0600
TZOFFSETTO:-0700
TZNAME:MST
DTSTART:20221106T080000
END:STANDARD
END:VTIMEZONE
BEGIN:VEVENT
DTSTART;TZID=America/Denver:20210816T180000
DTEND;TZID=America/Denver:20210816T190000
DTSTAMP:20260419T222620
CREATED:20210804T201913Z
LAST-MODIFIED:20210805T212520Z
UID:1649-1629136800-1629140400@marceladance.com
SUMMARY:New Ladies Styling Salsa Dancing Class
DESCRIPTION:This is a month for the LADIES!! \nNeed to know basic Salsa steps. \nWe will work on shoulders\, torso movements\, body roll\, footwork\, arms\, counts and much more.\nSuper fun way to learn how to look more confident on the dance floor! \nJoin me for 4 MONDAYS in August starting the 9th\, 16th\, 23rd and 30th. \n1810 30th Street\, Boulder\n6:00pm-7:00pm\n$12/Class\nVenmo : @Marcela-Lay-1
URL:https://marceladance.com/event/new-ladies-styling-salsa-dancing-class/
LOCATION:Boulder Health & Wellness Center\, 1810 30th St\, Boulder\, CO\, 80301\, United States
CATEGORIES:Workshops
ATTACH;FMTTYPE=image/png:https://marceladance.com/wp-content/uploads/marcela-leader-salsa-dancing-1.png
ORGANIZER;CN="Marcela":MAILTO:mlay3@hotmail.com
END:VEVENT
BEGIN:VEVENT
DTSTART;TZID=America/Denver:20210816T190000
DTEND;TZID=America/Denver:20210816T200000
DTSTAMP:20260419T222620
CREATED:20210810T214915Z
LAST-MODIFIED:20210810T214915Z
UID:1706-1629140400-1629144000@marceladance.com
SUMMARY:Men Styling!! ... SALSA
DESCRIPTION:Damilola is teaching a STYLING class for LEADS! …Yay!! \nDon’t miss this opportunity to gain confidence in Salsa timing.\nLook awesome on the dance floor. All while having FUN! \nSee you at :\nBoulder Health & Wellness Center \n1810 30th St\, Boulder\n7:00-8:00pm\nMonday August 16th\, 23rd\, and 30th\n(Right after LADIES STYLING:) \n$12\nVenmo : @Marcela-Lay-1\n(Limited spots available)
URL:https://marceladance.com/event/men-styling-salsa/
LOCATION:Boulder Health & Wellness Center\, 1810 30th St\, Boulder\, CO\, 80301\, United States
CATEGORIES:Workshops
ATTACH;FMTTYPE=image/jpeg:https://marceladance.com/wp-content/uploads/mens-styling-salsa-dancing-boulder-2021.jpg
ORGANIZER;CN="Marcela":MAILTO:mlay3@hotmail.com
END:VEVENT
END:VCALENDAR