BEGIN:VCALENDAR
VERSION:2.0
PRODID:-//Marcela Dance - ECPv6.15.20//NONSGML v1.0//EN
CALSCALE:GREGORIAN
METHOD:PUBLISH
X-WR-CALNAME:Marcela Dance
X-ORIGINAL-URL:https://marceladance.com
X-WR-CALDESC:Events for Marcela Dance
REFRESH-INTERVAL;VALUE=DURATION:PT1H
X-Robots-Tag:noindex
X-PUBLISHED-TTL:PT1H
BEGIN:VTIMEZONE
TZID:America/Denver
BEGIN:DAYLIGHT
TZOFFSETFROM:-0700
TZOFFSETTO:-0600
TZNAME:MDT
DTSTART:20200308T090000
END:DAYLIGHT
BEGIN:STANDARD
TZOFFSETFROM:-0600
TZOFFSETTO:-0700
TZNAME:MST
DTSTART:20201101T080000
END:STANDARD
BEGIN:DAYLIGHT
TZOFFSETFROM:-0700
TZOFFSETTO:-0600
TZNAME:MDT
DTSTART:20210314T090000
END:DAYLIGHT
BEGIN:STANDARD
TZOFFSETFROM:-0600
TZOFFSETTO:-0700
TZNAME:MST
DTSTART:20211107T080000
END:STANDARD
BEGIN:DAYLIGHT
TZOFFSETFROM:-0700
TZOFFSETTO:-0600
TZNAME:MDT
DTSTART:20220313T090000
END:DAYLIGHT
BEGIN:STANDARD
TZOFFSETFROM:-0600
TZOFFSETTO:-0700
TZNAME:MST
DTSTART:20221106T080000
END:STANDARD
END:VTIMEZONE
BEGIN:VEVENT
DTSTART;TZID=America/Denver:20210809T180000
DTEND;TZID=America/Denver:20210809T190000
DTSTAMP:20260420T001224
CREATED:20210804T041659Z
LAST-MODIFIED:20210908T192326Z
UID:1644-1628532000-1628535600@marceladance.com
SUMMARY:Salsa Dancing Lessons for Ladies Styling
DESCRIPTION:This is a month for the LADIES!! \nNeed to know basic Salsa steps. \nWe will work on shoulders\, torso movements\, body roll\, footwork\, arms\, counts and much more.\nSuper fun way to learn how to look more confident on the dance floor! \nJoin me for 4 MONDAYS in August starting the 9th\, 16th\, 23rd and 30th. \n1810 30th Street\, Boulder\n6:00 pm – 7:00 pm\n$12/Class\n\nVenmo: @Marcela-Lay-1
URL:https://marceladance.com/event/salsa-dancing-lessons-for-ladies-styling/
LOCATION:Boulder Health & Wellness Center\, 1810 30th St\, Boulder\, CO\, 80301\, United States
CATEGORIES:Workshops
ATTACH;FMTTYPE=image/jpeg:https://marceladance.com/wp-content/uploads/marcela-salsa-ladies-styling.jpg
ORGANIZER;CN="Marcela":MAILTO:mlay3@hotmail.com
END:VEVENT
END:VCALENDAR