BEGIN:VCALENDAR
VERSION:2.0
PRODID:-//Marcela Dance - ECPv6.15.20//NONSGML v1.0//EN
CALSCALE:GREGORIAN
METHOD:PUBLISH
X-WR-CALNAME:Marcela Dance
X-ORIGINAL-URL:https://marceladance.com
X-WR-CALDESC:Events for Marcela Dance
REFRESH-INTERVAL;VALUE=DURATION:PT1H
X-Robots-Tag:noindex
X-PUBLISHED-TTL:PT1H
BEGIN:VTIMEZONE
TZID:UTC
BEGIN:STANDARD
TZOFFSETFROM:+0000
TZOFFSETTO:+0000
TZNAME:UTC
DTSTART:20200101T000000
END:STANDARD
END:VTIMEZONE
BEGIN:VEVENT
DTSTART;TZID=UTC:20210731T120000
DTEND;TZID=UTC:20210731T133000
DTSTAMP:20260419T222623
CREATED:20210715T150507Z
LAST-MODIFIED:20210810T221147Z
UID:1602-1627732800-1627738200@marceladance.com
SUMMARY:Dominican Bachata with Kristina
DESCRIPTION:Kristina has been living in Dominican Republic for the last 6 months and she is so excited to share with you all she has learned and experienced there!\nThis workshop will cover some \n\nBachata history\,\nBachata footwork (solo) and\nBachata partnerwork.\n\nDon’t miss this amazing workshop and this great opportunity to learn Dominican Bachata.\nStudio: Sodal Hall\nFee:$15\nVenmo@ Marcela-Lay-1\n-Remember the Avalon is an ONLY vaccinated building.
URL:https://marceladance.com/event/dominican-bachata-with-kristina/
LOCATION:Avalon Ballroom\, 6185 Arapahoe Rd\, Boulder\, CO\, Boulder\, CO\, 80303\, United States
CATEGORIES:Workshops
ATTACH;FMTTYPE=image/jpeg:https://marceladance.com/wp-content/uploads/kristina-bachata.jpg
ORGANIZER;CN="Marcela":MAILTO:mlay3@hotmail.com
END:VEVENT
END:VCALENDAR