BEGIN:VCALENDAR
VERSION:2.0
PRODID:-//Marcela Dance - ECPv6.15.20//NONSGML v1.0//EN
CALSCALE:GREGORIAN
METHOD:PUBLISH
X-ORIGINAL-URL:https://marceladance.com
X-WR-CALDESC:Events for Marcela Dance
REFRESH-INTERVAL;VALUE=DURATION:PT1H
X-Robots-Tag:noindex
X-PUBLISHED-TTL:PT1H
BEGIN:VTIMEZONE
TZID:UTC
BEGIN:STANDARD
TZOFFSETFROM:+0000
TZOFFSETTO:+0000
TZNAME:UTC
DTSTART:20200101T000000
END:STANDARD
END:VTIMEZONE
BEGIN:VEVENT
DTSTART;TZID=UTC:20210729T190000
DTEND;TZID=UTC:20210729T203000
DTSTAMP:20260420T001412
CREATED:20210617T181059Z
LAST-MODIFIED:20210810T221325Z
UID:1576-1627585200-1627590600@marceladance.com
SUMMARY:Boulder Arts Outdoors
DESCRIPTION:Show times: 7pm-8:30pm; doors and concessions open at 6:00pm\nLocation: Glen Huntington Bandshell in Boulder’s Civic Area\, Canyon Blvd\, Boulder\, CO 80302\nThis year’s Boulder Arts Outdoors performances are produced in partnership with the City of Boulder and Arts in the Park. \nJuly 29\n\nLady Romeo – Soul/pop/rock band\nClaire Davison – Neoclassical ballet\nHelanius J. Wilkins – Contemporary dance\nMarcela Lay and Toqui – Cuban-style salsa\n​Alfredo Muro – Latin guitar virtuoso\n\nBuy tickets here;\nhttps://www.eventbrite.com/e/boulder-arts-outdoors-2021-tickets-157852359657 \nIn 2021\, Boulder Arts Outdoors is thrilled to carry its mission forward and to continue celebrating the region’s unique\, culturally diverse voices and award-winning performers.
URL:https://marceladance.com/event/boulder-arts-outdoors/
LOCATION:CO
CATEGORIES:Events
ATTACH;FMTTYPE=image/jpeg:https://marceladance.com/wp-content/uploads/salaa.jpg
ORGANIZER;CN="Marcela":MAILTO:mlay3@hotmail.com
END:VEVENT
END:VCALENDAR